BEGIN:VCALENDAR
VERSION:2.0
PRODID:-//eventon.com NONSGML v1.0//EN
CALSCALE:GREGORIAN
METHOD:PUBLISH
BEGIN:VEVENT
UID:69ec354c4ef6a
DTSTAMP:20260425T033020Z
DTSTART:20250211T163000Z
DTEND:20250211T173000Z
LOCATION:Teen Library: A Service of Eckhart Public Library 603 South Jackson Street Entrance\,    S Van Buren St\,    Auburn\,    IN 46706
SUMMARY:Minecraft Block Art
DESCRIPTION:Do you enjoy the aesthetic of Minecraft? Well\,  then\,  we hav
 e a program for you! Join us at The Teen Library on Tuesday\,  February 11t
 h\,  at 4:30 pm to make Minecraft-themed decorations that you can put in yo
 ur room at home. This program is open to teens in middle and[..]\nhttps://v
 isitdekalb.org/events/minecraft-block-art/
URL:https://visitdekalb.org/events/minecraft-block-art/
END:VEVENT
END:VCALENDAR