BEGIN:VCALENDAR
VERSION:2.0
PRODID:-//eventon.com NONSGML v1.0//EN
CALSCALE:GREGORIAN
METHOD:PUBLISH
BEGIN:VEVENT
UID:69ed894c5cb0a
DTSTAMP:20260426T034100Z
DTSTART:20250305T120000Z
DTEND:20250305T133000Z
LOCATION:St. Joseph County Public Library Community Learning Center 305 S. Michigan Street\,  South Bend\,  Indiana
SUMMARY:Wood Window Restoration 101
DESCRIPTION:Expert window restorers\,  Adam Toering and Elicia Garske\,  co
 ver the basics of wood window restoration and repair. Learn how traditional
  wood double hung windows are constructed\,  common problems\,  and tips fo
 r their repair and weatherization. Window mockups and tools will be on hand
  for attendees to experience. &nbsp; Participants can[..]\nhttps://visitdek
 alb.org/events/wood-window-restoration-101/
URL:https://visitdekalb.org/events/wood-window-restoration-101/
END:VEVENT
END:VCALENDAR